BEGIN:VCALENDAR
VERSION:2.0
PRODID:-//Contratero//ES
CALSCALE:GREGORIAN
METHOD:PUBLISH
BEGIN:VEVENT
UID:2023000110@contratero.es
DTSTAMP:20260422T174340Z
DTSTART:20230822T235959
DTEND:20230823T005959
SUMMARY:Cierre: Infraestructuras_espacio de datos de salud en el S
DESCRIPTION:Infraestructuras_espacio de datos de salud en el Servicio de Salud del Principado de Asturias\\n\\nOrganismo: Servicio de Salud - Servicios Centrales\\n\\nVer en Contratero: https://contratero.es/contracts/2023000110
URL:https://contratero.es/contracts/2023000110
STATUS:CONFIRMED
BEGIN:VALARM
TRIGGER:-P1D
ACTION:DISPLAY
DESCRIPTION:Recordatorio: Infraestructuras_espacio de da
END:VALARM
END:VEVENT
END:VCALENDAR