BEGIN:VCALENDAR
VERSION:2.0
PRODID:-//Contratero//ES
CALSCALE:GREGORIAN
METHOD:PUBLISH
BEGIN:VEVENT
UID:2023000796@contratero.es
DTSTAMP:20260424T101011Z
DTSTART:20240115T235959
DTEND:20240116T005959
SUMMARY:Cierre: Infraestructuras_ servicios de apoyo técnico para 
DESCRIPTION:Infraestructuras_ servicios de apoyo técnico para la coordinación\, implantación\, evolución\, validación y soporte de los sistemas de información en el ámbito sanitario.\\n\\nOrganismo: Servicio de Salud - Servicios Centrales\\n\\nVer en Contratero: https://contratero.es/contracts/2023000796
URL:https://contratero.es/contracts/2023000796
STATUS:CONFIRMED
BEGIN:VALARM
TRIGGER:-P1D
ACTION:DISPLAY
DESCRIPTION:Recordatorio: Infraestructuras_ servicios de
END:VALARM
END:VEVENT
END:VCALENDAR