BEGIN:VCALENDAR
VERSION:2.0
PRODID:-//Contratero//ES
CALSCALE:GREGORIAN
METHOD:PUBLISH
BEGIN:VEVENT
UID:20230037@contratero.es
DTSTAMP:20260421T074403Z
DTSTART:20271102T235959
DTEND:20271103T005959
SUMMARY:Cierre: Sistema dinámico de adquisición para el suministro
DESCRIPTION:Sistema dinámico de adquisición para el suministro de licencias anuales de uso\, actualizaciones y asistencia técnica para equipo de diagnosis Jaltest\\n\\nOrganismo: Consejo de Administración de la Empresa Municipal de Servicios de Medio Ambiente Urbano de Gijón (EMULSA)\\n\\nVer en Contratero: https://contratero.es/contracts/20230037
URL:https://contratero.es/contracts/20230037
STATUS:CONFIRMED
BEGIN:VALARM
TRIGGER:-P1D
ACTION:DISPLAY
DESCRIPTION:Recordatorio: Sistema dinámico de adquisició
END:VALARM
END:VEVENT
END:VCALENDAR