BEGIN:VCALENDAR
VERSION:2.0
PRODID:-//Contratero//ES
CALSCALE:GREGORIAN
METHOD:PUBLISH
BEGIN:VEVENT
UID:20230038@contratero.es
DTSTAMP:20260425T014408Z
DTSTART:20231201T235959
DTEND:20231202T005959
SUMMARY:Cierre: Contrato negociado sin publicidad para el suminist
DESCRIPTION:Contrato negociado sin publicidad para el suministro de licencia de uso\, actualizaciones y accesorios necesarios para el acceso a software de diagnosis de vehículos pesados Renault / Volvo durante tre...\\n\\nOrganismo: Consejo de Administración de la Empresa Municipal de Servicios de Medio Ambiente Urbano de Gijón (EMULSA)\\n\\nVer en Contratero: https://contratero.es/contracts/20230038
URL:https://contratero.es/contracts/20230038
STATUS:CONFIRMED
BEGIN:VALARM
TRIGGER:-P1D
ACTION:DISPLAY
DESCRIPTION:Recordatorio: Contrato negociado sin publici
END:VALARM
END:VEVENT
END:VCALENDAR