BEGIN:VCALENDAR
VERSION:2.0
PRODID:-//Contratero//ES
CALSCALE:GREGORIAN
METHOD:PUBLISH
BEGIN:VEVENT
UID:202304072GB@contratero.es
DTSTAMP:20260425T200446Z
DTSTART:20230509T235959
DTEND:20230510T005959
SUMMARY:Cierre: Servicio L2 de la plataforma Dive
DESCRIPTION:Servicio L2 de la plataforma Dive\\n\\nOrganismo: Dirección General de BilbaoTIK\, S.A.\\n\\nVer en Contratero: https://contratero.es/contracts/202304072GB
URL:https://contratero.es/contracts/202304072GB
STATUS:CONFIRMED
BEGIN:VALARM
TRIGGER:-P1D
ACTION:DISPLAY
DESCRIPTION:Recordatorio: Servicio L2 de la plataforma D
END:VALARM
END:VEVENT
END:VCALENDAR