BEGIN:VCALENDAR
VERSION:2.0
PRODID:-//Contratero//ES
CALSCALE:GREGORIAN
METHOD:PUBLISH
BEGIN:VEVENT
UID:20230522-00366@contratero.es
DTSTAMP:20260425T163432Z
DTSTART:20230626T235959
DTEND:20230627T005959
SUMMARY:Cierre: Suministro y mantenimiento de las licencias de Tea
DESCRIPTION:Suministro y mantenimiento de las licencias de TeamViewer\, así como el servicio de soporte asociado.\\n\\nOrganismo: Ineco-Comité de Dirección\\n\\nVer en Contratero: https://contratero.es/contracts/20230522-00366
URL:https://contratero.es/contracts/20230522-00366
STATUS:CONFIRMED
BEGIN:VALARM
TRIGGER:-P1D
ACTION:DISPLAY
DESCRIPTION:Recordatorio: Suministro y mantenimiento de 
END:VALARM
END:VEVENT
END:VCALENDAR