BEGIN:VCALENDAR
VERSION:2.0
PRODID:-//Contratero//ES
CALSCALE:GREGORIAN
METHOD:PUBLISH
BEGIN:VEVENT
UID:202305PAS004@contratero.es
DTSTAMP:20260421T223158Z
DTSTART:20240129T235959
DTEND:20240130T005959
SUMMARY:Cierre: Servicio para disponer de una aplicación para la g
DESCRIPTION:Servicio para disponer de una aplicación para la gestión de laboratorios de Sanidad exterior en modo SAAS.\\n\\nOrganismo: Dirección General de Salud Digital y Sistemas de Información del Sistema Nacional de Salud\\n\\nVer en Contratero: https://contratero.es/contracts/202305PAS004
URL:https://contratero.es/contracts/202305PAS004
STATUS:CONFIRMED
BEGIN:VALARM
TRIGGER:-P1D
ACTION:DISPLAY
DESCRIPTION:Recordatorio: Servicio para disponer de una 
END:VALARM
END:VEVENT
END:VCALENDAR