BEGIN:VCALENDAR
VERSION:2.0
PRODID:-//Contratero//ES
CALSCALE:GREGORIAN
METHOD:PUBLISH
BEGIN:VEVENT
UID:2023065500@contratero.es
DTSTAMP:20260424T131210Z
DTSTART:20240308T235959
DTEND:20240309T005959
SUMMARY:Cierre: Contratación de la Renovación de la licencia de la
DESCRIPTION:Contratación de la Renovación de la licencia de la aplicación de voz na nube\, mediante el sistema de pago por uso 2024-2025\\n\\nOrganismo: Presidencia de la Diputación Provincial de Pontevedra\\n\\nVer en Contratero: https://contratero.es/contracts/2023065500
URL:https://contratero.es/contracts/2023065500
STATUS:CONFIRMED
BEGIN:VALARM
TRIGGER:-P1D
ACTION:DISPLAY
DESCRIPTION:Recordatorio: Contratación de la Renovación 
END:VALARM
END:VEVENT
END:VCALENDAR