BEGIN:VCALENDAR
VERSION:2.0
PRODID:-//Contratero//ES
CALSCALE:GREGORIAN
METHOD:PUBLISH
BEGIN:VEVENT
UID:2023395@contratero.es
DTSTAMP:20260422T133129Z
DTSTART:20230927T235959
DTEND:20230928T005959
SUMMARY:Cierre: Servicios de soporte y garantía para el mantenimie
DESCRIPTION:Servicios de soporte y garantía para el mantenimiento de la infraestructura en nube que la sociedad EZ tiene dispuesta en Amazon Web Services\\n\\nOrganismo: Gerencia de Ecociudad Zaragoza S.A.U. (Medio Propio)\\n\\nVer en Contratero: https://contratero.es/contracts/2023395
URL:https://contratero.es/contracts/2023395
STATUS:CONFIRMED
BEGIN:VALARM
TRIGGER:-P1D
ACTION:DISPLAY
DESCRIPTION:Recordatorio: Servicios de soporte y garantí
END:VALARM
END:VEVENT
END:VCALENDAR