BEGIN:VCALENDAR
VERSION:2.0
PRODID:-//Contratero//ES
CALSCALE:GREGORIAN
METHOD:PUBLISH
BEGIN:VEVENT
UID:2023SDA11@contratero.es
DTSTAMP:20260423T000614Z
DTSTART:20231118T235959
DTEND:20231119T005959
SUMMARY:Cierre: Suscripciones de licencias de software de visualiz
DESCRIPTION:Suscripciones de licencias de software de visualización y edición de archivos CAD.\\n\\nOrganismo: Organismo Autónomo Informática del Ayuntamiento de Madrid\\n\\nVer en Contratero: https://contratero.es/contracts/2023SDA11
URL:https://contratero.es/contracts/2023SDA11
STATUS:CONFIRMED
BEGIN:VALARM
TRIGGER:-P1D
ACTION:DISPLAY
DESCRIPTION:Recordatorio: Suscripciones de licencias de 
END:VALARM
END:VEVENT
END:VCALENDAR