BEGIN:VCALENDAR
VERSION:2.0
PRODID:-//Contratero//ES
CALSCALE:GREGORIAN
METHOD:PUBLISH
BEGIN:VEVENT
UID:2023_0036@contratero.es
DTSTAMP:20260419T163852Z
DTSTART:20230817T235959
DTEND:20230818T005959
SUMMARY:Cierre: Servicio de mantenimiento del sistema de captura d
DESCRIPTION:Servicio de mantenimiento del sistema de captura de datos máquina lecto-correctora de ejercicios de opoosición del Ayuntamiento de Murcia\\n\\nOrganismo: Junta de Gobierno del Ayuntamiento de Murcia\\n\\nVer en Contratero: https://contratero.es/contracts/2023_0036
URL:https://contratero.es/contracts/2023_0036
STATUS:CONFIRMED
BEGIN:VALARM
TRIGGER:-P1D
ACTION:DISPLAY
DESCRIPTION:Recordatorio: Servicio de mantenimiento del 
END:VALARM
END:VEVENT
END:VCALENDAR