BEGIN:VCALENDAR
VERSION:2.0
PRODID:-//Contratero//ES
CALSCALE:GREGORIAN
METHOD:PUBLISH
BEGIN:VEVENT
UID:2023_078-SUM@contratero.es
DTSTAMP:20260424T191315Z
DTSTART:20231213T235959
DTEND:20231214T005959
SUMMARY:Cierre: Suministro de licencias de CYPE para la Universida
DESCRIPTION:Suministro de licencias de CYPE para la Universidad Miguel Hernández de Elche\\n\\nOrganismo: Rectorado de la Universidad Miguel Hernández de Elche\\n\\nVer en Contratero: https://contratero.es/contracts/2023_078-SUM
URL:https://contratero.es/contracts/2023_078-SUM
STATUS:CONFIRMED
BEGIN:VALARM
TRIGGER:-P1D
ACTION:DISPLAY
DESCRIPTION:Recordatorio: Suministro de licencias de CYP
END:VALARM
END:VEVENT
END:VCALENDAR