BEGIN:VCALENDAR
VERSION:2.0
PRODID:-//Contratero//ES
CALSCALE:GREGORIAN
METHOD:PUBLISH
BEGIN:VEVENT
UID:2023hMA00181@contratero.es
DTSTAMP:20260422T194419Z
DTSTART:20240209T235959
DTEND:20240210T005959
SUMMARY:Cierre: PRTR - Servicio de consultoría\, diseño\, desarrollo
DESCRIPTION:PRTR - Servicio de consultoría\, diseño\, desarrollo\, implantación\, mantenimiento y soporte de una Plataforma de Interacción y creación de un Datalake centrada en el deportista SC-PRTR-2023-028 AC\\n\\nOrganismo: Presidencia del Consejo Superior de Deportes\\n\\nVer en Contratero: https://contratero.es/contracts/2023hMA00181
URL:https://contratero.es/contracts/2023hMA00181
STATUS:CONFIRMED
BEGIN:VALARM
TRIGGER:-P1D
ACTION:DISPLAY
DESCRIPTION:Recordatorio: PRTR - Servicio de consultoría
END:VALARM
END:VEVENT
END:VCALENDAR