BEGIN:VCALENDAR
VERSION:2.0
PRODID:-//Contratero//ES
CALSCALE:GREGORIAN
METHOD:PUBLISH
BEGIN:VEVENT
UID:2023hMA00265@contratero.es
DTSTAMP:20260422T062827Z
DTSTART:20240304T235959
DTEND:20240305T005959
SUMMARY:Cierre: PRTR Servicio de implantación de una oficina de pr
DESCRIPTION:PRTR Servicio de implantación de una oficina de proyectos PMO para la definición y ejecución de proyectos basados en la explotación de datos\, a través de la Inteligencia Artificial\, por el Consejo Sup...\\n\\nOrganismo: Presidencia del Consejo Superior de Deportes\\n\\nVer en Contratero: https://contratero.es/contracts/2023hMA00265
URL:https://contratero.es/contracts/2023hMA00265
STATUS:CONFIRMED
BEGIN:VALARM
TRIGGER:-P1D
ACTION:DISPLAY
DESCRIPTION:Recordatorio: PRTR Servicio de implantación 
END:VALARM
END:VEVENT
END:VCALENDAR