BEGIN:VCALENDAR
VERSION:2.0
PRODID:-//Contratero//ES
CALSCALE:GREGORIAN
METHOD:PUBLISH
BEGIN:VEVENT
UID:2023qD600107@contratero.es
DTSTAMP:20260425T213447Z
DTSTART:20230619T235959
DTEND:20230620T005959
SUMMARY:Cierre: Renovación de diferentes licencias de productos de
DESCRIPTION:Renovación de diferentes licencias de productos de asistencia\nremota a usuarios usados por el personal del Departamento de Sistemas y Tecnologías de la\nInformación (DSTI) de la AGENCIA ESPAÑOLA DE C...\\n\\nOrganismo: Dirección de la Agencia Española de Cooperación Internacional para el Desarrollo (AECID)\\n\\nVer en Contratero: https://contratero.es/contracts/2023qD600107
URL:https://contratero.es/contracts/2023qD600107
STATUS:CONFIRMED
BEGIN:VALARM
TRIGGER:-P1D
ACTION:DISPLAY
DESCRIPTION:Recordatorio: Renovación de diferentes licen
END:VALARM
END:VEVENT
END:VCALENDAR