BEGIN:VCALENDAR
VERSION:2.0
PRODID:-//Contratero//ES
CALSCALE:GREGORIAN
METHOD:PUBLISH
BEGIN:VEVENT
UID:2024-00536@contratero.es
DTSTAMP:20260422T080052Z
DTSTART:20240715T235959
DTEND:20240716T005959
SUMMARY:Cierre: Suministro de una solucion software as a service d
DESCRIPTION:Suministro de una solucion software as a service de backup para Microsoft 365\\n\\nOrganismo: Dirección General Económico-Financiera de la Entidad Pública Empresarial RENFE-Operadora\\n\\nVer en Contratero: https://contratero.es/contracts/2024-00536
URL:https://contratero.es/contracts/2024-00536
STATUS:CONFIRMED
BEGIN:VALARM
TRIGGER:-P1D
ACTION:DISPLAY
DESCRIPTION:Recordatorio: Suministro de una solucion sof
END:VALARM
END:VEVENT
END:VCALENDAR