BEGIN:VCALENDAR
VERSION:2.0
PRODID:-//Contratero//ES
CALSCALE:GREGORIAN
METHOD:PUBLISH
BEGIN:VEVENT
UID:2024-00867@contratero.es
DTSTAMP:20260425T155232Z
DTSTART:20240625T235959
DTEND:20240626T005959
SUMMARY:Cierre: Contratación del servicio de consultoría y apoyo t
DESCRIPTION:Contratación del servicio de consultoría y apoyo técnico para el seguimiento del proyecto PIU de la SETELECO.\\n\\nOrganismo: Consejero Delegado de Ingeniería de Sistemas para la Defensa de España S.A.\, S.M.E. y M.P.\\n\\nVer en Contratero: https://contratero.es/contracts/2024-00867
URL:https://contratero.es/contracts/2024-00867
STATUS:CONFIRMED
BEGIN:VALARM
TRIGGER:-P1D
ACTION:DISPLAY
DESCRIPTION:Recordatorio: Contratación del servicio de c
END:VALARM
END:VEVENT
END:VCALENDAR