BEGIN:VCALENDAR
VERSION:2.0
PRODID:-//Contratero//ES
CALSCALE:GREGORIAN
METHOD:PUBLISH
BEGIN:VEVENT
UID:2024-02111@contratero.es
DTSTAMP:20260424T044519Z
DTSTART:20250127T235959
DTEND:20250128T005959
SUMMARY:Cierre: Servicio para el desarrollo del sistema PIU de la 
DESCRIPTION:Servicio para el desarrollo del sistema PIU de la Secretaría de Estado de Telecomunicaciones e Infraestructuras Digitales\\n\\nOrganismo: Consejero Delegado de Ingeniería de Sistemas para la Defensa de España S.A.\, S.M.E. y M.P.\\n\\nVer en Contratero: https://contratero.es/contracts/2024-02111
URL:https://contratero.es/contracts/2024-02111
STATUS:CONFIRMED
BEGIN:VALARM
TRIGGER:-P1D
ACTION:DISPLAY
DESCRIPTION:Recordatorio: Servicio para el desarrollo de
END:VALARM
END:VEVENT
END:VCALENDAR