BEGIN:VCALENDAR
VERSION:2.0
PRODID:-//Contratero//ES
CALSCALE:GREGORIAN
METHOD:PUBLISH
BEGIN:VEVENT
UID:2024-034@contratero.es
DTSTAMP:20260421T005844Z
DTSTART:20240708T235959
DTEND:20240709T005959
SUMMARY:Cierre: Suministro de 8 licencias de uso del Software Cisc
DESCRIPTION:Suministro de 8 licencias de uso del Software Cisco Webex Meetings y 2 licencias de Zoom Business para un periodo de tres años para el Instituto Municipal para la Formación y el Empleo (IMFE) del Excm...\\n\\nOrganismo: Delegación del Área de Fomento del Empleo\\n\\nVer en Contratero: https://contratero.es/contracts/2024-034
URL:https://contratero.es/contracts/2024-034
STATUS:CONFIRMED
BEGIN:VALARM
TRIGGER:-P1D
ACTION:DISPLAY
DESCRIPTION:Recordatorio: Suministro de 8 licencias de u
END:VALARM
END:VEVENT
END:VCALENDAR