BEGIN:VCALENDAR
VERSION:2.0
PRODID:-//Contratero//ES
CALSCALE:GREGORIAN
METHOD:PUBLISH
BEGIN:VEVENT
UID:2024-03896@contratero.es
DTSTAMP:20260421T023944Z
DTSTART:20240910T235959
DTEND:20240911T005959
SUMMARY:Cierre: Trenlab VI Convocatoria: Automatización y digitali
DESCRIPTION:Trenlab VI Convocatoria: Automatización y digitalización del mantenimiento ferroviario.\\n\\nOrganismo: Dirección General de Renfe Ingeniería y Mantenimiento Sociedad Mercantil Estatal\, S.A.\\n\\nVer en Contratero: https://contratero.es/contracts/2024-03896
URL:https://contratero.es/contracts/2024-03896
STATUS:CONFIRMED
BEGIN:VALARM
TRIGGER:-P1D
ACTION:DISPLAY
DESCRIPTION:Recordatorio: Trenlab VI Convocatoria: Autom
END:VALARM
END:VEVENT
END:VCALENDAR