BEGIN:VCALENDAR
VERSION:2.0
PRODID:-//Contratero//ES
CALSCALE:GREGORIAN
METHOD:PUBLISH
BEGIN:VEVENT
UID:2024-04023@contratero.es
DTSTAMP:20260420T164951Z
DTSTART:20240910T235959
DTEND:20240911T005959
SUMMARY:Cierre: Diseño y desarrollo de una solución innovadora al 
DESCRIPTION:Diseño y desarrollo de una solución innovadora al reto de la transformación de la atención al cliente en estaciones basada en IA.\\n\\nOrganismo: Dirección General de Renfe Viajeros Sociedad Mercantil Estatal\, S.A.\\n\\nVer en Contratero: https://contratero.es/contracts/2024-04023
URL:https://contratero.es/contracts/2024-04023
STATUS:CONFIRMED
BEGIN:VALARM
TRIGGER:-P1D
ACTION:DISPLAY
DESCRIPTION:Recordatorio: Diseño y desarrollo de una sol
END:VALARM
END:VEVENT
END:VCALENDAR