BEGIN:VCALENDAR
VERSION:2.0
PRODID:-//Contratero//ES
CALSCALE:GREGORIAN
METHOD:PUBLISH
BEGIN:VEVENT
UID:2024-04501@contratero.es
DTSTAMP:20260422T044712Z
DTSTART:20241015T235959
DTEND:20241016T005959
SUMMARY:Cierre: Suministro de licencias SAP CONCUR para el Grupo R
DESCRIPTION:Suministro de licencias SAP CONCUR para el Grupo RENFE\\n\\nOrganismo: Dirección General Económico-Financiera de la Entidad Pública Empresarial RENFE-Operadora\\n\\nVer en Contratero: https://contratero.es/contracts/2024-04501
URL:https://contratero.es/contracts/2024-04501
STATUS:CONFIRMED
BEGIN:VALARM
TRIGGER:-P1D
ACTION:DISPLAY
DESCRIPTION:Recordatorio: Suministro de licencias SAP CO
END:VALARM
END:VEVENT
END:VCALENDAR