BEGIN:VCALENDAR
VERSION:2.0
PRODID:-//Contratero//ES
CALSCALE:GREGORIAN
METHOD:PUBLISH
BEGIN:VEVENT
UID:2024-0487@contratero.es
DTSTAMP:20260426T010606Z
DTSTART:20241111T235959
DTEND:20241112T005959
SUMMARY:Cierre: Contratación de los Servicios de consultoría para 
DESCRIPTION:Contratación de los Servicios de consultoría para la evaluación\, rediseño e implementación del programa de fidelización de clientes "Amigos de Paradores.\\n\\nOrganismo: Paradores de Turismo de España\, S.M.E.\, S.A.\\n\\nVer en Contratero: https://contratero.es/contracts/2024-0487
URL:https://contratero.es/contracts/2024-0487
STATUS:CONFIRMED
BEGIN:VALARM
TRIGGER:-P1D
ACTION:DISPLAY
DESCRIPTION:Recordatorio: Contratación de los Servicios 
END:VALARM
END:VEVENT
END:VCALENDAR