BEGIN:VCALENDAR
VERSION:2.0
PRODID:-//Contratero//ES
CALSCALE:GREGORIAN
METHOD:PUBLISH
BEGIN:VEVENT
UID:2024-05006@contratero.es
DTSTAMP:20260419T130351Z
DTSTART:20250926T235959
DTEND:20250927T005959
SUMMARY:Cierre: Servicio de desarrollo para la implementacion y ma
DESCRIPTION:Servicio de desarrollo para la implementacion y mantenimiento de un sistema de cálculo de precios\\n\\nOrganismo: Dirección General de Renfe Viajeros Sociedad Mercantil Estatal\, S.A.\\n\\nVer en Contratero: https://contratero.es/contracts/2024-05006
URL:https://contratero.es/contracts/2024-05006
STATUS:CONFIRMED
BEGIN:VALARM
TRIGGER:-P1D
ACTION:DISPLAY
DESCRIPTION:Recordatorio: Servicio de desarrollo para la
END:VALARM
END:VEVENT
END:VCALENDAR