BEGIN:VCALENDAR
VERSION:2.0
PRODID:-//Contratero//ES
CALSCALE:GREGORIAN
METHOD:PUBLISH
BEGIN:VEVENT
UID:2024-100@contratero.es
DTSTAMP:20260422T215219Z
DTSTART:20250123T235959
DTEND:20250124T005959
SUMMARY:Cierre: Suministro\, actualización e instalación de licenci
DESCRIPTION:Suministro\, actualización e instalación de licencias de VM Ware para la empresa Calvia 2000\, S.A.\\n\\nOrganismo: Gerencia Calviá 2000\\n\\nVer en Contratero: https://contratero.es/contracts/2024-100
URL:https://contratero.es/contracts/2024-100
STATUS:CONFIRMED
BEGIN:VALARM
TRIGGER:-P1D
ACTION:DISPLAY
DESCRIPTION:Recordatorio: Suministro\, actualización e in
END:VALARM
END:VEVENT
END:VCALENDAR