BEGIN:VCALENDAR
VERSION:2.0
PRODID:-//Contratero//ES
CALSCALE:GREGORIAN
METHOD:PUBLISH
BEGIN:VEVENT
UID:2024-P355@contratero.es
DTSTAMP:20260424T101004Z
DTSTART:20250109T235959
DTEND:20250110T005959
SUMMARY:Cierre: Servicio de asesoramiento y gestión experta de Cib
DESCRIPTION:Servicio de asesoramiento y gestión experta de Ciberseguridad\\n\\nOrganismo: Consejo de Administración de la Sociedad de Gestión de Activos procedentes de la Reestructuración Bancaria\, S.A\\n\\nVer en Contratero: https://contratero.es/contracts/2024-P355
URL:https://contratero.es/contracts/2024-P355
STATUS:CONFIRMED
BEGIN:VALARM
TRIGGER:-P1D
ACTION:DISPLAY
DESCRIPTION:Recordatorio: Servicio de asesoramiento y ge
END:VALARM
END:VEVENT
END:VCALENDAR