BEGIN:VCALENDAR
VERSION:2.0
PRODID:-//Contratero//ES
CALSCALE:GREGORIAN
METHOD:PUBLISH
BEGIN:VEVENT
UID:2024-SES-030@contratero.es
DTSTAMP:20260423T185101Z
DTSTART:20240524T235959
DTEND:20240525T005959
SUMMARY:Cierre: Servicio de mantenimiento Microinformática para Mu
DESCRIPTION:Servicio de mantenimiento Microinformática para Mutua Balear.\\n\\nOrganismo: Dirección Gerencia de Mutua Balear\, Mutua de Accidentes de Trabajo y Enfermedades Profesionales de la Seguridad Social Nº 183\\n\\nVer en Contratero: https://contratero.es/contracts/2024-SES-030
URL:https://contratero.es/contracts/2024-SES-030
STATUS:CONFIRMED
BEGIN:VALARM
TRIGGER:-P1D
ACTION:DISPLAY
DESCRIPTION:Recordatorio: Servicio de mantenimiento Micr
END:VALARM
END:VEVENT
END:VCALENDAR