BEGIN:VCALENDAR
VERSION:2.0
PRODID:-//Contratero//ES
CALSCALE:GREGORIAN
METHOD:PUBLISH
BEGIN:VEVENT
UID:2024-SES-032@contratero.es
DTSTAMP:20260420T232648Z
DTSTART:20240531T235959
DTEND:20240601T005959
SUMMARY:Cierre: Servicio de Mantenimiento y Soporte Tecnico para e
DESCRIPTION:Servicio de Mantenimiento y Soporte Tecnico para el producto IAMETRICS DATA con Agrupador CGS-APR para Mutua Balear\\n\\nOrganismo: Dirección Gerencia de Mutua Balear\, Mutua de Accidentes de Trabajo y Enfermedades Profesionales de la Seguridad Social Nº 183\\n\\nVer en Contratero: https://contratero.es/contracts/2024-SES-032
URL:https://contratero.es/contracts/2024-SES-032
STATUS:CONFIRMED
BEGIN:VALARM
TRIGGER:-P1D
ACTION:DISPLAY
DESCRIPTION:Recordatorio: Servicio de Mantenimiento y So
END:VALARM
END:VEVENT
END:VCALENDAR