BEGIN:VCALENDAR
VERSION:2.0
PRODID:-//Contratero//ES
CALSCALE:GREGORIAN
METHOD:PUBLISH
BEGIN:VEVENT
UID:2024/0006/SV@contratero.es
DTSTAMP:20260425T141837Z
DTSTART:20240620T235959
DTEND:20240621T005959
SUMMARY:Cierre: Servicio de Ciberseguridad sobre las aplicaciones 
DESCRIPTION:Servicio de Ciberseguridad sobre las aplicaciones informáticas y sistemas OT integradas en las consolas centralizadas de seguridad de Aigües i Sanejament d'Elx\\n\\nOrganismo: Consejo de Administración de Aigues i Sanejament d'Elx S.A.\\n\\nVer en Contratero: https://contratero.es/contracts/2024/0006/SV
URL:https://contratero.es/contracts/2024/0006/SV
STATUS:CONFIRMED
BEGIN:VALARM
TRIGGER:-P1D
ACTION:DISPLAY
DESCRIPTION:Recordatorio: Servicio de Ciberseguridad sob
END:VALARM
END:VEVENT
END:VCALENDAR