BEGIN:VCALENDAR
VERSION:2.0
PRODID:-//Contratero//ES
CALSCALE:GREGORIAN
METHOD:PUBLISH
BEGIN:VEVENT
UID:2024/0007465@contratero.es
DTSTAMP:20260423T103307Z
DTSTART:20241010T235959
DTEND:20241011T005959
SUMMARY:Cierre: Suministro de licencias antivirus corporativo para
DESCRIPTION:Suministro de licencias antivirus corporativo para la Universidad Carlos III de Madrid\\n\\nOrganismo: Rector de la Universidad Carlos III de Madrid\\n\\nVer en Contratero: https://contratero.es/contracts/2024/0007465
URL:https://contratero.es/contracts/2024/0007465
STATUS:CONFIRMED
BEGIN:VALARM
TRIGGER:-P1D
ACTION:DISPLAY
DESCRIPTION:Recordatorio: Suministro de licencias antivi
END:VALARM
END:VEVENT
END:VCALENDAR