BEGIN:VCALENDAR
VERSION:2.0
PRODID:-//Contratero//ES
CALSCALE:GREGORIAN
METHOD:PUBLISH
BEGIN:VEVENT
UID:2024/00075@contratero.es
DTSTAMP:20260420T185858Z
DTSTART:20241204T235959
DTEND:20241205T005959
SUMMARY:Cierre: Servicio de licencias y gestión de un sistema de d
DESCRIPTION:Servicio de licencias y gestión de un sistema de detección y respuesta a eventos de ciberseguridad (MDR)\\n\\nOrganismo: Rectorado de la Universidad de Córdoba\\n\\nVer en Contratero: https://contratero.es/contracts/2024/00075
URL:https://contratero.es/contracts/2024/00075
STATUS:CONFIRMED
BEGIN:VALARM
TRIGGER:-P1D
ACTION:DISPLAY
DESCRIPTION:Recordatorio: Servicio de licencias y gestió
END:VALARM
END:VEVENT
END:VCALENDAR