BEGIN:VCALENDAR
VERSION:2.0
PRODID:-//Contratero//ES
CALSCALE:GREGORIAN
METHOD:PUBLISH
BEGIN:VEVENT
UID:2024/000755@contratero.es
DTSTAMP:20260420T165025Z
DTSTART:20241007T235959
DTEND:20241008T005959
SUMMARY:Cierre: Servicio consistente en la realización de trabajos
DESCRIPTION:Servicio consistente en la realización de trabajos de grabación de datos y tratamiento informático de la captación y emisión de datos y documentos\, digitalización certificada\, registro y archivo de do...\\n\\nOrganismo: Gerencia de la Agencia Tributaria de Sevilla\\n\\nVer en Contratero: https://contratero.es/contracts/2024/000755
URL:https://contratero.es/contracts/2024/000755
STATUS:CONFIRMED
BEGIN:VALARM
TRIGGER:-P1D
ACTION:DISPLAY
DESCRIPTION:Recordatorio: Servicio consistente en la rea
END:VALARM
END:VEVENT
END:VCALENDAR