BEGIN:VCALENDAR
VERSION:2.0
PRODID:-//Contratero//ES
CALSCALE:GREGORIAN
METHOD:PUBLISH
BEGIN:VEVENT
UID:2024/000936@contratero.es
DTSTAMP:20260421T174707Z
DTSTART:20241029T235959
DTEND:20241030T005959
SUMMARY:Cierre: Suministro para la renovación con soporte y manten
DESCRIPTION:Suministro para la renovación con soporte y mantenimiento de las licencias del Software Presto utilizado por el Instituto Municipal de Deportes del Ayuntamiento de Sevilla.\\n\\nOrganismo: Vicepresidencia del Instituto Municipal de Deportes del Ayuntamiento de Sevilla\\n\\nVer en Contratero: https://contratero.es/contracts/2024/000936
URL:https://contratero.es/contracts/2024/000936
STATUS:CONFIRMED
BEGIN:VALARM
TRIGGER:-P1D
ACTION:DISPLAY
DESCRIPTION:Recordatorio: Suministro para la renovación 
END:VALARM
END:VEVENT
END:VCALENDAR