BEGIN:VCALENDAR
VERSION:2.0
PRODID:-//Contratero//ES
CALSCALE:GREGORIAN
METHOD:PUBLISH
BEGIN:VEVENT
UID:2024/0010065@contratero.es
DTSTAMP:20260420T205541Z
DTSTART:20250110T235959
DTEND:20250111T005959
SUMMARY:Cierre: Servicio de gestión y dinamización redes sociales 
DESCRIPTION:Servicio de gestión y dinamización redes sociales corporativas de la Universidad Carlos III de Madrid\\n\\nOrganismo: Rector de la Universidad Carlos III de Madrid\\n\\nVer en Contratero: https://contratero.es/contracts/2024/0010065
URL:https://contratero.es/contracts/2024/0010065
STATUS:CONFIRMED
BEGIN:VALARM
TRIGGER:-P1D
ACTION:DISPLAY
DESCRIPTION:Recordatorio: Servicio de gestión y dinamiza
END:VALARM
END:VEVENT
END:VCALENDAR