BEGIN:VCALENDAR
VERSION:2.0
PRODID:-//Contratero//ES
CALSCALE:GREGORIAN
METHOD:PUBLISH
BEGIN:VEVENT
UID:2024/001959@contratero.es
DTSTAMP:20260422T130639Z
DTSTART:20240604T235959
DTEND:20240605T005959
SUMMARY:Cierre: Entorno tecnológico de ArcGIS para la Junta de Com
DESCRIPTION:Entorno tecnológico de ArcGIS para la Junta de Comunidades de Castilla-La Mancha\\n\\nOrganismo: Secretaría General de la Consejería de Fomento de la Junta de Comunidades de Castilla-La Mancha\\n\\nVer en Contratero: https://contratero.es/contracts/2024/001959
URL:https://contratero.es/contracts/2024/001959
STATUS:CONFIRMED
BEGIN:VALARM
TRIGGER:-P1D
ACTION:DISPLAY
DESCRIPTION:Recordatorio: Entorno tecnológico de ArcGIS 
END:VALARM
END:VEVENT
END:VCALENDAR