BEGIN:VCALENDAR
VERSION:2.0
PRODID:-//Contratero//ES
CALSCALE:GREGORIAN
METHOD:PUBLISH
BEGIN:VEVENT
UID:2024/003088@contratero.es
DTSTAMP:20260422T113556Z
DTSTART:20240528T235959
DTEND:20240529T005959
SUMMARY:Cierre: Contrato específico SDA 25/2022 Lote 6 Renovación 
DESCRIPTION:Contrato específico SDA 25/2022 Lote 6 Renovación de los derechos de uso de las licencias de software de productividad y colaboración para el puesto de trabajo de usuario en el ámbito del SESCAM.\\n\\nOrganismo: Secretaria General del Servicio de Salud de Castilla-La Mancha\\n\\nVer en Contratero: https://contratero.es/contracts/2024/003088
URL:https://contratero.es/contracts/2024/003088
STATUS:CONFIRMED
BEGIN:VALARM
TRIGGER:-P1D
ACTION:DISPLAY
DESCRIPTION:Recordatorio: Contrato específico SDA 25/202
END:VALARM
END:VEVENT
END:VCALENDAR