BEGIN:VCALENDAR
VERSION:2.0
PRODID:-//Contratero//ES
CALSCALE:GREGORIAN
METHOD:PUBLISH
BEGIN:VEVENT
UID:2024/006383@contratero.es
DTSTAMP:20260421T184850Z
DTSTART:20241121T235959
DTEND:20241122T005959
SUMMARY:Cierre: Imagen Médica Digital (Ykonos VIII)
DESCRIPTION:Imagen Médica Digital (Ykonos VIII)\\n\\nOrganismo: Secretaria General del Servicio de Salud de Castilla-La Mancha\\n\\nVer en Contratero: https://contratero.es/contracts/2024/006383
URL:https://contratero.es/contracts/2024/006383
STATUS:CONFIRMED
BEGIN:VALARM
TRIGGER:-P1D
ACTION:DISPLAY
DESCRIPTION:Recordatorio: Imagen Médica Digital (Ykonos 
END:VALARM
END:VEVENT
END:VCALENDAR