BEGIN:VCALENDAR
VERSION:2.0
PRODID:-//Contratero//ES
CALSCALE:GREGORIAN
METHOD:PUBLISH
BEGIN:VEVENT
UID:2024/012932@contratero.es
DTSTAMP:20260421T040027Z
DTSTART:20250818T235959
DTEND:20250819T005959
SUMMARY:Cierre: Renovación del acuerdo de despliegue ilimitado de 
DESCRIPTION:Renovación del acuerdo de despliegue ilimitado de productos ORACLE y de los servicios de soporte asociados y avanzados\\n\\nOrganismo: Secretaría General de la Consejería de Hacienda\, Administraciones Públicas y Transformación Digital de la Junta de Comunidades de Castilla-La Mancha\\n\\nVer en Contratero: https://contratero.es/contracts/2024/012932
URL:https://contratero.es/contracts/2024/012932
STATUS:CONFIRMED
BEGIN:VALARM
TRIGGER:-P1D
ACTION:DISPLAY
DESCRIPTION:Recordatorio: Renovación del acuerdo de desp
END:VALARM
END:VEVENT
END:VCALENDAR