BEGIN:VCALENDAR
VERSION:2.0
PRODID:-//Contratero//ES
CALSCALE:GREGORIAN
METHOD:PUBLISH
BEGIN:VEVENT
UID:2024/014608@contratero.es
DTSTAMP:20260420T095530Z
DTSTART:20250107T235959
DTEND:20250108T005959
SUMMARY:Cierre: Servicio de recogida de datos (aplicación) para la
DESCRIPTION:Servicio de recogida de datos (aplicación) para la participación de Castilla-La Mancha en la muestra ampliada de la evaluación del programa PISA 2025 de la OCDE\\n\\nOrganismo: Secretaría General de la Consejería de Educación\, Cultura y Deportes de la Junta de Comunidades de Castilla-La Mancha\\n\\nVer en Contratero: https://contratero.es/contracts/2024/014608
URL:https://contratero.es/contracts/2024/014608
STATUS:CONFIRMED
BEGIN:VALARM
TRIGGER:-P1D
ACTION:DISPLAY
DESCRIPTION:Recordatorio: Servicio de recogida de datos 
END:VALARM
END:VEVENT
END:VCALENDAR