BEGIN:VCALENDAR
VERSION:2.0
PRODID:-//Contratero//ES
CALSCALE:GREGORIAN
METHOD:PUBLISH
BEGIN:VEVENT
UID:2024/01564T@contratero.es
DTSTAMP:20260421T174652Z
DTSTART:20240311T235959
DTEND:20240312T005959
SUMMARY:Cierre: Servicio de renovación del mantenimiento de la apl
DESCRIPTION:Servicio de renovación del mantenimiento de la aplicación Eurocop para la Policía Municipal del Ayuntamiento de Torrelavega\\n\\nOrganismo: Alcaldía del Ayuntamiento de Torrelavega\\n\\nVer en Contratero: https://contratero.es/contracts/2024/01564T
URL:https://contratero.es/contracts/2024/01564T
STATUS:CONFIRMED
BEGIN:VALARM
TRIGGER:-P1D
ACTION:DISPLAY
DESCRIPTION:Recordatorio: Servicio de renovación del man
END:VALARM
END:VEVENT
END:VCALENDAR