BEGIN:VCALENDAR
VERSION:2.0
PRODID:-//Contratero//ES
CALSCALE:GREGORIAN
METHOD:PUBLISH
BEGIN:VEVENT
UID:2024/051.SUM.NGSP.UC@contratero.es
DTSTAMP:20260423T171041Z
DTSTART:20240906T235959
DTEND:20240907T005959
SUMMARY:Cierre: Suministro del sistema de gestión de contenidos Li
DESCRIPTION:Suministro del sistema de gestión de contenidos LibGuides para la creación\, publicación\, gestión y control de las biblioguías\, la lista de recursos electrónicos y las guías temáticas de la Biblioteca ...\\n\\nOrganismo: Gerencia de la Universidad de Alcalá\\n\\nVer en Contratero: https://contratero.es/contracts/2024/051.SUM.NGSP.UC
URL:https://contratero.es/contracts/2024/051.SUM.NGSP.UC
STATUS:CONFIRMED
BEGIN:VALARM
TRIGGER:-P1D
ACTION:DISPLAY
DESCRIPTION:Recordatorio: Suministro del sistema de gest
END:VALARM
END:VEVENT
END:VCALENDAR