BEGIN:VCALENDAR
VERSION:2.0
PRODID:-//Contratero//ES
CALSCALE:GREGORIAN
METHOD:PUBLISH
BEGIN:VEVENT
UID:2024/060.SER.ABRSA.M@contratero.es
DTSTAMP:20260421T080917Z
DTSTART:20240906T235959
DTEND:20240907T005959
SUMMARY:Cierre: Servicio de actualización y mantenimiento de las 1
DESCRIPTION:Servicio de actualización y mantenimiento de las 10 licencias de TOAD for Oracle propiedad de la UAH.\\n\\nOrganismo: Gerencia de la Universidad de Alcalá\\n\\nVer en Contratero: https://contratero.es/contracts/2024/060.SER.ABRSA.M
URL:https://contratero.es/contracts/2024/060.SER.ABRSA.M
STATUS:CONFIRMED
BEGIN:VALARM
TRIGGER:-P1D
ACTION:DISPLAY
DESCRIPTION:Recordatorio: Servicio de actualización y ma
END:VALARM
END:VEVENT
END:VCALENDAR