BEGIN:VCALENDAR
VERSION:2.0
PRODID:-//Contratero//ES
CALSCALE:GREGORIAN
METHOD:PUBLISH
BEGIN:VEVENT
UID:2024/103@contratero.es
DTSTAMP:20260424T235440Z
DTSTART:20240805T235959
DTEND:20240806T005959
SUMMARY:Cierre: Servicio de Mantenimiento de los Servidores
DESCRIPTION:Servicio de Mantenimiento de los Servidores\\n\\nOrganismo: Junta de Gobierno del Ayuntamiento de Cádiz\\n\\nVer en Contratero: https://contratero.es/contracts/2024/103
URL:https://contratero.es/contracts/2024/103
STATUS:CONFIRMED
BEGIN:VALARM
TRIGGER:-P1D
ACTION:DISPLAY
DESCRIPTION:Recordatorio: Servicio de Mantenimiento de l
END:VALARM
END:VEVENT
END:VCALENDAR