BEGIN:VCALENDAR
VERSION:2.0
PRODID:-//Contratero//ES
CALSCALE:GREGORIAN
METHOD:PUBLISH
BEGIN:VEVENT
UID:2024/11246E@contratero.es
DTSTAMP:20260424T034101Z
DTSTART:20250120T235959
DTEND:20250121T005959
SUMMARY:Cierre: Renovación del hardware y software que conforma la
DESCRIPTION:Renovación del hardware y software que conforma la infraestructura de sistemas de información de los servicios municipales del Ayuntamiento de Torrelavega\\n\\nOrganismo: Alcaldía del Ayuntamiento de Torrelavega\\n\\nVer en Contratero: https://contratero.es/contracts/2024/11246E
URL:https://contratero.es/contracts/2024/11246E
STATUS:CONFIRMED
BEGIN:VALARM
TRIGGER:-P1D
ACTION:DISPLAY
DESCRIPTION:Recordatorio: Renovación del hardware y soft
END:VALARM
END:VEVENT
END:VCALENDAR