BEGIN:VCALENDAR
VERSION:2.0
PRODID:-//Contratero//ES
CALSCALE:GREGORIAN
METHOD:PUBLISH
BEGIN:VEVENT
UID:2024/1157@contratero.es
DTSTAMP:20260424T235520Z
DTSTART:20240703T235959
DTEND:20240704T005959
SUMMARY:Cierre: Proyecto de adaptación del sistema de administraci
DESCRIPTION:Proyecto de adaptación del sistema de administración electrónica del ayuntamiento de Santoña al esquema nacional de seguridad y la dirección técnica para su implantación efectiva.\\n\\nOrganismo: Alcaldía del Ayuntamiento de Santoña\\n\\nVer en Contratero: https://contratero.es/contracts/2024/1157
URL:https://contratero.es/contracts/2024/1157
STATUS:CONFIRMED
BEGIN:VALARM
TRIGGER:-P1D
ACTION:DISPLAY
DESCRIPTION:Recordatorio: Proyecto de adaptación del sis
END:VALARM
END:VEVENT
END:VCALENDAR