BEGIN:VCALENDAR
VERSION:2.0
PRODID:-//Contratero//ES
CALSCALE:GREGORIAN
METHOD:PUBLISH
BEGIN:VEVENT
UID:2024/20125@contratero.es
DTSTAMP:20260423T214533Z
DTSTART:20240624T235959
DTEND:20240625T005959
SUMMARY:Cierre: Actualización de versión de CYPE y adquisición de 
DESCRIPTION:Actualización de versión de CYPE y adquisición de modulos para cálculos de estructuras\\n\\nOrganismo: Alcaldía del Ayuntamiento de Lucena\\n\\nVer en Contratero: https://contratero.es/contracts/2024/20125
URL:https://contratero.es/contracts/2024/20125
STATUS:CONFIRMED
BEGIN:VALARM
TRIGGER:-P1D
ACTION:DISPLAY
DESCRIPTION:Recordatorio: Actualización de versión de CY
END:VALARM
END:VEVENT
END:VCALENDAR