BEGIN:VCALENDAR
VERSION:2.0
PRODID:-//Contratero//ES
CALSCALE:GREGORIAN
METHOD:PUBLISH
BEGIN:VEVENT
UID:2024/216/00001@contratero.es
DTSTAMP:20260425T125335Z
DTSTART:20240627T235959
DTEND:20240628T005959
SUMMARY:Cierre: Servicio de administración y mantenimiento de los 
DESCRIPTION:Servicio de administración y mantenimiento de los sistemas Linux de la Agencia Española de Medicamentos y Productos Sanitarios\\n\\nOrganismo: Secretaría General de la Agencia Española de Medicamentos y Productos Sanitarios\\n\\nVer en Contratero: https://contratero.es/contracts/2024/216/00001
URL:https://contratero.es/contracts/2024/216/00001
STATUS:CONFIRMED
BEGIN:VALARM
TRIGGER:-P1D
ACTION:DISPLAY
DESCRIPTION:Recordatorio: Servicio de administración y m
END:VALARM
END:VEVENT
END:VCALENDAR