BEGIN:VCALENDAR
VERSION:2.0
PRODID:-//Contratero//ES
CALSCALE:GREGORIAN
METHOD:PUBLISH
BEGIN:VEVENT
UID:2024/269@contratero.es
DTSTAMP:20260420T164827Z
DTSTART:20240511T235959
DTEND:20240512T005959
SUMMARY:Cierre: Actualización y gestión del inventario municipal d
DESCRIPTION:Actualización y gestión del inventario municipal de bienes y derechos del Ayuntamiento de La Victoria de Acentejo.\\n\\nOrganismo: Alcaldía del Ayuntamiento de La Victoria de Acentejo\\n\\nVer en Contratero: https://contratero.es/contracts/2024/269
URL:https://contratero.es/contracts/2024/269
STATUS:CONFIRMED
BEGIN:VALARM
TRIGGER:-P1D
ACTION:DISPLAY
DESCRIPTION:Recordatorio: Actualización y gestión del in
END:VALARM
END:VEVENT
END:VCALENDAR