BEGIN:VCALENDAR
VERSION:2.0
PRODID:-//Contratero//ES
CALSCALE:GREGORIAN
METHOD:PUBLISH
BEGIN:VEVENT
UID:2024/31@contratero.es
DTSTAMP:20260420T205131Z
DTSTART:20241216T235959
DTEND:20241217T005959
SUMMARY:Cierre: Servicio para la implantación y mantenimiento de h
DESCRIPTION:Servicio para la implantación y mantenimiento de herramientas para la implantación de la Administración electrónica del Ayuntamiento de Manacor y sus Organismos autónomos\\n\\nOrganismo: Alcaldía del Ayuntamiento de Manacor\\n\\nVer en Contratero: https://contratero.es/contracts/2024/31
URL:https://contratero.es/contracts/2024/31
STATUS:CONFIRMED
BEGIN:VALARM
TRIGGER:-P1D
ACTION:DISPLAY
DESCRIPTION:Recordatorio: Servicio para la implantación 
END:VALARM
END:VEVENT
END:VCALENDAR