BEGIN:VCALENDAR
VERSION:2.0
PRODID:-//Contratero//ES
CALSCALE:GREGORIAN
METHOD:PUBLISH
BEGIN:VEVENT
UID:2024/3120013868/458@contratero.es
DTSTAMP:20260424T162529Z
DTSTART:20250304T235959
DTEND:20250305T005959
SUMMARY:Cierre: Servicios profesionales para el desarrollo de una 
DESCRIPTION:Servicios profesionales para el desarrollo de una herramienta de consulta de las competencias profesionales y necesidades de formación\\n\\nOrganismo: Fundación Estatal para la Formación en el Empleo\, F.S.P.\\n\\nVer en Contratero: https://contratero.es/contracts/2024/3120013868/458
URL:https://contratero.es/contracts/2024/3120013868/458
STATUS:CONFIRMED
BEGIN:VALARM
TRIGGER:-P1D
ACTION:DISPLAY
DESCRIPTION:Recordatorio: Servicios profesionales para e
END:VALARM
END:VEVENT
END:VCALENDAR